BEGIN:VCALENDAR
VERSION:2.0
PRODID:-//Contratero//ES
CALSCALE:GREGORIAN
METHOD:PUBLISH
BEGIN:VEVENT
UID:PA-SS 2024/000064@contratero.es
DTSTAMP:20260421T041953Z
DTSTART:20241024T235959
DTEND:20241025T005959
SUMMARY:Cierre: Servicio de mantenimiento del middleware aplicació
DESCRIPTION:Servicio de mantenimiento del middleware aplicación AppCRUE de la Universidad de Oviedo.\\n\\nOrganismo: Rectorado de la Universidad de Oviedo\\n\\nVer en Contratero: https://contratero.es/contracts/PA-SS 2024/000064
URL:https://contratero.es/contracts/PA-SS 2024/000064
STATUS:CONFIRMED
BEGIN:VALARM
TRIGGER:-P1D
ACTION:DISPLAY
DESCRIPTION:Recordatorio: Servicio de mantenimiento del 
END:VALARM
END:VEVENT
END:VCALENDAR